BEGIN:VCALENDAR
VERSION:2.0
PRODID:-//Amexem Mu Centre - ECPv6.13.2.1//NONSGML v1.0//EN
CALSCALE:GREGORIAN
METHOD:PUBLISH
X-WR-CALNAME:Amexem Mu Centre
X-ORIGINAL-URL:https://amexemmu.ca
X-WR-CALDESC:Events for Amexem Mu Centre
REFRESH-INTERVAL;VALUE=DURATION:PT1H
X-Robots-Tag:noindex
X-PUBLISHED-TTL:PT1H
BEGIN:VTIMEZONE
TZID:UTC
BEGIN:STANDARD
TZOFFSETFROM:+0000
TZOFFSETTO:+0000
TZNAME:UTC
DTSTART:20210101T000000
END:STANDARD
END:VTIMEZONE
BEGIN:VEVENT
DTSTART;TZID=UTC:20220625T130000
DTEND;TZID=UTC:20220625T180000
DTSTAMP:20260423T162453
CREATED:20220616T001305Z
LAST-MODIFIED:20220616T001512Z
UID:505-1656162000-1656180000@amexemmu.ca
SUMMARY:CARIBBEAN GOVERNANCE CONFERENCE\, TORONTO
DESCRIPTION:Together we are creating a vibrant sustainable ecosystem. Let us build a a Caribbean Village with all the amenities: Healthcare\, Education\, Farming\, Manufacturing\, Shopping Centres\, Roads and a Government .
URL:https://amexemmu.ca/event/caribbean-governance-conference-toronto/
ATTACH;FMTTYPE=image/jpeg:https://amexemmu.ca/wp-content/uploads/2022/06/event-banner.jpg
END:VEVENT
BEGIN:VEVENT
DTSTART;TZID=UTC:20210727T170000
DTEND;TZID=UTC:20210727T210000
DTSTAMP:20260423T162453
CREATED:20220307T201408Z
LAST-MODIFIED:20220307T204652Z
UID:215-1627405200-1627419600@amexemmu.ca
SUMMARY:Covid 19 Responsibility To Project
DESCRIPTION:Maroons – People of Meritah- Ascendants of Enslaved Afurakens
URL:https://amexemmu.ca/event/covid-19-responsibility-to-project/
LOCATION:Online\, Canada
ATTACH;FMTTYPE=image/jpeg:https://amexemmu.ca/wp-content/uploads/2022/03/event-covid-19-response-to-protect.jpg
END:VEVENT
BEGIN:VEVENT
DTSTART;TZID=UTC:20210424T090000
DTEND;TZID=UTC:20210424T190000
DTSTAMP:20260423T162453
CREATED:20220307T202853Z
LAST-MODIFIED:20220307T204819Z
UID:223-1619254800-1619290800@amexemmu.ca
SUMMARY:2nd Annual Sankofa Wholistic Health Conference
DESCRIPTION:Let Food Be Your Healing Medicine\n 
URL:https://amexemmu.ca/event/2nd-annual-sankofa-wholistic-health-conference/
LOCATION:Online\, Canada
ATTACH;FMTTYPE=image/jpeg:https://amexemmu.ca/wp-content/uploads/2022/03/2nd-annual.jpg
END:VEVENT
BEGIN:VEVENT
DTSTART;TZID=UTC:20210411T150000
DTEND;TZID=UTC:20210411T173000
DTSTAMP:20260423T162453
CREATED:20220307T204330Z
LAST-MODIFIED:20220307T204330Z
UID:229-1618153200-1618162200@amexemmu.ca
SUMMARY:Brainwashed
DESCRIPTION:500 Years of Colonization\nA weekly conversation about its impact on Youth of Afrikan Descent
URL:https://amexemmu.ca/event/brainwashed/
LOCATION:Online\, Canada
ATTACH;FMTTYPE=image/jpeg:https://amexemmu.ca/wp-content/uploads/2022/03/Brainwash-Flyer-April-3-1-1-1174x1536-1.jpg
END:VEVENT
END:VCALENDAR